BEGIN:VCALENDAR
VERSION:2.0
PRODID:-//ChamberMaster//Event Calendar 2.0//EN
METHOD:PUBLISH
X-PUBLISHED-TTL:P3D
REFRESH-INTERVAL:P3D
CALSCALE:GREGORIAN
BEGIN:VEVENT
DTSTART:20121021T190000Z
DTEND:20121021T190000Z
X-MICROSOFT-CDO-ALLDAYEVENT:FALSE
SUMMARY:Sing Out! A Choral Celebration
DESCRIPTION:The Mansfield Symphony Chorus will host several area choral groups for Sing Out! A Choral Celebration at the Renaissance Theatre on Sunday\, October 21st at 3:00 pm. The event is open to the public\, with all proceeds going to support the Renaissance. No tickets are required\, however\, donations will be accepted at the door\, with a suggested donation of $5. Scheduled to perform are Mansfield Symphony Chorus\, the Moonlighters quartet\, and vocal groups from Mansfield Senior\, Crestview\, Lexington\, Shelby\, Mansfield Christian\, and Big Walnut.
X-ALT-DESC;FMTTYPE=text/html:The Mansfield Symphony Chorus will host several area choral groups for Sing Out! A Choral Celebration at the Renaissance Theatre on Sunday\, October 21st at 3:00 pm. The event is open to the public\, with all proceeds going to support the Renaissance. No tickets are required\, however\, donations will be accepted at the door\, with a suggested donation of $5. Scheduled to perform are Mansfield Symphony Chorus\, the Moonlighters quartet\, and vocal groups from Mansfield Senior\, Crestview\, Lexington\, Shelby\, Mansfield Christian\, and Big Walnut.
LOCATION:Renaissance Theatre
UID:e.2256.693
SEQUENCE:3
DTSTAMP:20260420T062036Z
URL:https://portal.richlandareachamber.com/events/details/sing-out-a-choral-celebration-10-21-2012-693
END:VEVENT

END:VCALENDAR
