BEGIN:VCALENDAR
VERSION:2.0
PRODID:-//ChamberMaster//Event Calendar 2.0//EN
METHOD:PUBLISH
X-PUBLISHED-TTL:P3D
REFRESH-INTERVAL:P3D
CALSCALE:GREGORIAN
BEGIN:VEVENT
DTSTART:20121103T130000Z
DTEND:20121103T190000Z
X-MICROSOFT-CDO-ALLDAYEVENT:FALSE
SUMMARY:Simple Goods
DESCRIPTION:This is a a wonderful early country antique & primitive goods show! We'll have over 50 of the very best dealers the USA has to offer! While standing in line to get in...enjoy some hot mulled apple cider brewed over an crackling fire & scrumptious donuts! Best-selling author Jill Peterson will be here selling her BRAND NEW book "Fragments"! We'll be giving away 50 gifts to the 1st 50 customers in line & holding drawings ALL DAY for REALLY FABULOUS primitive goodies! For more info please visit our website!
X-ALT-DESC;FMTTYPE=text/html:This is a a wonderful early country antique & primitive goods show! We'll have over 50 of the very best dealers the USA has to offer! While standing in line to get in...enjoy some hot mulled apple cider brewed over an crackling fire & scrumptious donuts! Best-selling author Jill Peterson will be here selling her BRAND NEW book "Fragments"! We'll be giving away 50 gifts to the 1st 50 customers in line & holding drawings ALL DAY for REALLY FABULOUS primitive goodies! For more info please visit our website!
LOCATION:Take I-71 to U.S. 30 W. Exit. Take U.S. 30 to the Fifth Ave. exit. R & L Banquet Center is directly across from the Fifth Ave. exit ramp.
UID:e.2256.690
SEQUENCE:3
DTSTAMP:20260420T045032Z
URL:https://portal.richlandareachamber.com/events/details/simple-goods-11-03-2012-690
END:VEVENT

END:VCALENDAR
