BEGIN:VCALENDAR
VERSION:2.0
PRODID:-//ChamberMaster//Event Calendar 2.0//EN
METHOD:PUBLISH
X-PUBLISHED-TTL:P3D
REFRESH-INTERVAL:P3D
CALSCALE:GREGORIAN
BEGIN:VEVENT
DTSTART:20130426T210000Z
DTEND:20130426T210000Z
X-MICROSOFT-CDO-ALLDAYEVENT:FALSE
SUMMARY:Shop Hop Dirty Downtown
DESCRIPTION:Come shop\, dine\, and explore Downtown Mansfield.  Entertainment\, drink\, and dinner specials throughout the weekend!
X-ALT-DESC;FMTTYPE=text/html:Come shop\, dine\, and explore Downtown Mansfield.  Entertainment\, drink\, and dinner specials throughout the weekend!
LOCATION:Downtown Mansfield
UID:e.2256.741
SEQUENCE:3
DTSTAMP:20260419T203802Z
URL:https://portal.richlandareachamber.com/events/details/shop-hop-dirty-downtown-04-26-2013-741
END:VEVENT

END:VCALENDAR
