BEGIN:VCALENDAR
VERSION:2.0
PRODID:-//ChamberMaster//Event Calendar 2.0//EN
METHOD:PUBLISH
X-PUBLISHED-TTL:P3D
REFRESH-INTERVAL:P3D
CALSCALE:GREGORIAN
BEGIN:VEVENT
DTSTART:20090710T160000Z
DTEND:20090710T160000Z
X-MICROSOFT-CDO-ALLDAYEVENT:FALSE
SUMMARY:Shelby Bicycle Days
DESCRIPTION:Bicycle Festival in downtown Shelby.
X-ALT-DESC;FMTTYPE=text/html:Bicycle Festival in downtown Shelby.
LOCATION:Downtown Shelby
UID:e.2256.8
SEQUENCE:3
DTSTAMP:20260426T035808Z
URL:https://portal.richlandareachamber.com/events/details/shelby-bicycle-days-07-10-2009-8
END:VEVENT

END:VCALENDAR
