BEGIN:VCALENDAR
VERSION:2.0
PRODID:-//ChamberMaster//Event Calendar 2.0//EN
METHOD:PUBLISH
X-PUBLISHED-TTL:P3D
REFRESH-INTERVAL:P3D
CALSCALE:GREGORIAN
BEGIN:VEVENT
DTSTART;VALUE=DATE:20110206
DTEND;VALUE=DATE:20110207
TRANSP:TRANSPARENT
X-MICROSOFT-CDO-ALLDAYEVENT:TRUE
SUMMARY:Sesame Street Live: ''Elmo's Green Thumb''
DESCRIPTION:Sesame Street Live: ''Elmo's Green Thumb''\nFriday\, February 4th\, 2011\nSaturday\, February 5th\, 2011\nSunday\, February 6th\, 20117:00 PM\n10:30 AM & 2:00 PM\n1:00 PM & 4:30 PMSesame Street Live "Elmo's Green Thumb" is coming to Mansfield! \n\nIn: Special Events\n\n\n\n\nRenaissance Theatre - www.mansfieldtickets.com - 419-522-2726
X-ALT-DESC;FMTTYPE=text/html:Sesame Street Live: ''Elmo's Green Thumb''\nFriday\, February 4th\, 2011\nSaturday\, February 5th\, 2011\nSunday\, February 6th\, 20117:00 PM\n10:30 AM & 2:00 PM\n1:00 PM & 4:30 PMSesame Street Live "Elmo's Green Thumb" is coming to Mansfield! \n\nIn: Special Events\n\n\n\n\nRenaissance Theatre - www.mansfieldtickets.com - 419-522-2726\n
LOCATION:
UID:e.2256.403
SEQUENCE:3
DTSTAMP:20260425T021225Z
URL:https://portal.richlandareachamber.com/events/details/sesame-street-live-elmo-s-green-thumb-02-06-2011-403
END:VEVENT

END:VCALENDAR
