BEGIN:VCALENDAR
VERSION:2.0
PRODID:-//ChamberMaster//Event Calendar 2.0//EN
METHOD:PUBLISH
X-PUBLISHED-TTL:P3D
REFRESH-INTERVAL:P3D
CALSCALE:GREGORIAN
BEGIN:VEVENT
DTSTART;VALUE=DATE:20110220
DTEND;VALUE=DATE:20110221
TRANSP:TRANSPARENT
X-MICROSOFT-CDO-ALLDAYEVENT:TRUE
SUMMARY:''Secrets in Skulls'' - Gorman Nature Center
DESCRIPTION:Sun      20-Feb        2:00 PM        ''Secrets in Skulls'' -an examination of a variety of animal skulls to \n                                                     determine what they were and what they ate  (MT) \n\n\n\n\n\n\nFor more information\, please call 419-884-3764     \n2295 Lexington Ave. \, Mansfield\, OH 44907.
X-ALT-DESC;FMTTYPE=text/html:Sun      20-Feb        2:00 PM        ''Secrets in Skulls'' -an examination of a variety of animal skulls to \n                                                     determine what they were and what they ate  (MT) \n\n\n\n\n\n\nFor more information\, please call 419-884-3764     \n2295 Lexington Ave. \, Mansfield\, OH 44907. \n\n
LOCATION:
UID:e.2256.468
SEQUENCE:3
DTSTAMP:20260425T003557Z
URL:https://portal.richlandareachamber.com/events/details/secrets-in-skulls-gorman-nature-center-02-20-2011-468
END:VEVENT

END:VCALENDAR
