BEGIN:VCALENDAR
VERSION:2.0
PRODID:-//ChamberMaster//Event Calendar 2.0//EN
METHOD:PUBLISH
X-PUBLISHED-TTL:P3D
REFRESH-INTERVAL:P3D
CALSCALE:GREGORIAN
BEGIN:VEVENT
DTSTART;VALUE=DATE:20110120
DTEND;VALUE=DATE:20110121
TRANSP:TRANSPARENT
X-MICROSOFT-CDO-ALLDAYEVENT:TRUE
SUMMARY:Secrets in Skull - Gorman Nature Center
DESCRIPTION:Thursday\, January 20\, 2011 \n\nSecrets in Skull - Gorman Nature Center \n\nWitnes the examination of a variety of animal skulls to determine what they were and what they ate.\n\n\nFor more information\, please call 419-884-3764     \n2295 Lexington Ave. \, Mansfield\, OH 44907.
X-ALT-DESC;FMTTYPE=text/html:Thursday\, January 20\, 2011 \n\nSecrets in Skull - Gorman Nature Center \n\nWitnes the examination of a variety of animal skulls to determine what they were and what they ate.\n\n\nFor more information\, please call 419-884-3764     \n2295 Lexington Ave. \, Mansfield\, OH 44907. \n\n
LOCATION:
UID:e.2256.455
SEQUENCE:3
DTSTAMP:20260425T021037Z
URL:https://portal.richlandareachamber.com/events/details/secrets-in-skull-gorman-nature-center-01-20-2011-455
END:VEVENT

END:VCALENDAR
