BEGIN:VCALENDAR
VERSION:2.0
PRODID:-//ChamberMaster//Event Calendar 2.0//EN
METHOD:PUBLISH
X-PUBLISHED-TTL:P3D
REFRESH-INTERVAL:P3D
CALSCALE:GREGORIAN
BEGIN:VEVENT
DTSTART:20111024T110000Z
DTEND:20111101T003000Z
X-MICROSOFT-CDO-ALLDAYEVENT:FALSE
SUMMARY:Savings
DESCRIPTION:Enjoy a year of amazing savings and a Sam's Club Gift Card October 24-31.\n\nJoin as a New Plus Business or Advantage Member and receive a $25 Gift Card. Or receive A $10 Gift Card for A New Advantage or New Business Member sign up. Stop in at the club to look around and see what membership fits you.
X-ALT-DESC;FMTTYPE=text/html:Enjoy a year of amazing savings and a Sam's Club Gift Card October 24-31.\n\nJoin as a New Plus Business or Advantage Member and receive a $25 Gift Card. Or receive A $10 Gift Card for A New Advantage or New Business Member sign up. Stop in at the club to look around and see what membership fits you.\n\n
LOCATION:1070 North lex Springmill Road Mansfield Ohio 44906
UID:e.2256.626
SEQUENCE:3
DTSTAMP:20260424T110616Z
URL:https://portal.richlandareachamber.com/events/details/savings-10-24-2011-626
END:VEVENT

END:VCALENDAR
