BEGIN:VCALENDAR
VERSION:2.0
PRODID:-//ChamberMaster//Event Calendar 2.0//EN
METHOD:PUBLISH
X-PUBLISHED-TTL:P3D
REFRESH-INTERVAL:P3D
CALSCALE:GREGORIAN
BEGIN:VEVENT
DTSTART:20121218T190000Z
DTEND:20121218T190000Z
X-MICROSOFT-CDO-ALLDAYEVENT:FALSE
SUMMARY:Santa Coming to Shelby Pointe
DESCRIPTION:Come join us for a Christmas Party with Santa!!!!!
X-ALT-DESC;FMTTYPE=text/html:Come join us for a Christmas Party with Santa!!!!! 
LOCATION:Shelby Pointe
UID:e.2256.713
SEQUENCE:3
DTSTAMP:20260420T031540Z
URL:https://portal.richlandareachamber.com/events/details/santa-coming-to-shelby-pointe-12-18-2012-713
END:VEVENT

END:VCALENDAR
