BEGIN:VCALENDAR
VERSION:2.0
PRODID:-//ChamberMaster//Event Calendar 2.0//EN
METHOD:PUBLISH
X-PUBLISHED-TTL:P3D
REFRESH-INTERVAL:P3D
CALSCALE:GREGORIAN
BEGIN:VEVENT
DTSTART:20111118T160000Z
DTEND:20111120T230000Z
X-MICROSOFT-CDO-ALLDAYEVENT:FALSE
SUMMARY:Sample The Joy Holiday Taste of Sam's Club
DESCRIPTION:Sample the Joy of the Holidays!!!\n\nAre you getting ready for the Holidays?\nCome to Sam's Club for Demos on food and ideas to feed your family this Holiday Season!\n\nOpen to Members and non Members. Non member stop at the membership desk to get your one day pass. A 10% service fee applies to all non Members.One day pass only good for the dates listed.  \n\nFriday\,November 18 through Sunday\,\nNovember 20th 11am-6 pm.
X-ALT-DESC;FMTTYPE=text/html:Sample the Joy of the Holidays!!!\n\nAre you getting ready for the Holidays?\nCome to Sam's Club for Demos on food and ideas to feed your family this Holiday Season!\n\nOpen to Members and non Members. Non member stop at the membership desk to get your one day pass. A 10% service fee applies to all non Members.One day pass only good for the dates listed.  \n\nFriday\,November 18 through Sunday\,\nNovember 20th 11am-6 pm. 
LOCATION:1070 North Lexington Springmill Road Mansfield Ohio 44906
UID:e.2256.628
SEQUENCE:3
DTSTAMP:20260424T100025Z
URL:https://portal.richlandareachamber.com/events/details/sample-the-joy-holiday-taste-of-sam-s-club-11-18-2011-628
END:VEVENT

END:VCALENDAR
