BEGIN:VCALENDAR
VERSION:2.0
PRODID:-//ChamberMaster//Event Calendar 2.0//EN
METHOD:PUBLISH
X-PUBLISHED-TTL:P3D
REFRESH-INTERVAL:P3D
CALSCALE:GREGORIAN
BEGIN:VEVENT
DTSTART:20250409T120000Z
DTEND:20250410T000000Z
X-MICROSOFT-CDO-ALLDAYEVENT:FALSE
SUMMARY:Sam Tridico Memorial Blood Drive
DESCRIPTION:Give the Gift of Life in Honor of Sam Tridico Make plans to donate blood on April 9 at the Sam Tridico Memorial Blood Drive. Sam was an energetic\, loving boy with a smile for everyone he met. As a student at St. Peter's Montessori\, he was diagnosed with Severe Aplastic Anemia and tragically passed away on December 28\, 2010. Each year\, the Tridico family organizes this incredible blood drive in his honor to help others in need. Join us in remembering Sammy and making a difference! Schedule your appointment at 1-800-Red Cross or visit redcrossblood.org and enter code SPHS
X-ALT-DESC;FMTTYPE=text/html:Give the Gift of Life in Honor of Sam Tridico Make plans to donate blood on April 9 at the Sam Tridico Memorial Blood Drive. Sam was an energetic\, loving boy with a smile for everyone he met. As a student at St. Peter&rsquo\;s Montessori\, he was diagnosed with Severe Aplastic Anemia and tragically passed away on December 28\, 2010. Each year\, the Tridico family organizes this incredible blood drive in his honor to help others in need. Join us in remembering Sammy and making a difference! Schedule your appointment at 1-800-Red Cross or visit redcrossblood.org and enter code SPHS
LOCATION:St. Peter's Franciscan Activity Center 111 W. First St. Mansfield\, OH 44903
UID:e.2256.6206
SEQUENCE:3
DTSTAMP:20260422T070025Z
URL:https://portal.richlandareachamber.com/events/details/sam-tridico-memorial-blood-drive-6206
END:VEVENT

END:VCALENDAR
