BEGIN:VCALENDAR
VERSION:2.0
PRODID:-//ChamberMaster//Event Calendar 2.0//EN
METHOD:PUBLISH
X-PUBLISHED-TTL:P3D
REFRESH-INTERVAL:P3D
CALSCALE:GREGORIAN
BEGIN:VEVENT
DTSTART:20100214T010000Z
DTEND:20100214T010000Z
X-MICROSOFT-CDO-ALLDAYEVENT:FALSE
SUMMARY:Romeo and Juliet
DESCRIPTION:Robert Wesner debuts his world premiere adaptation of Shakespeare's timeless take\, inspired by Prokofiev's sweeping\, heartbreaking score. \n\n\n    Get more information HERE
X-ALT-DESC;FMTTYPE=text/html:<p>\n    Robert Wesner debuts his world premiere adaptation of Shakespeare's timeless take\, inspired by Prokofiev's sweeping\, heartbreaking score. \n</p>\n<p>\n    Get more information <a href="http://www.mansfieldtickets.com/events/all">HERE</a><a href="http://www.mansfieldtickets.com/events/all"></a><a href="http://www.mansfieldtickets.com/events/all"></a> \n</p>
LOCATION:
UID:e.2256.125
SEQUENCE:3
DTSTAMP:20260425T180523Z
URL:https://portal.richlandareachamber.com/events/details/romeo-and-juliet-02-13-2010-125
END:VEVENT

END:VCALENDAR
