BEGIN:VCALENDAR
VERSION:2.0
PRODID:-//ChamberMaster//Event Calendar 2.0//EN
METHOD:PUBLISH
X-PUBLISHED-TTL:P3D
REFRESH-INTERVAL:P3D
CALSCALE:GREGORIAN
BEGIN:VEVENT
DTSTART;VALUE=DATE:20110214
DTEND;VALUE=DATE:20110215
TRANSP:TRANSPARENT
X-MICROSOFT-CDO-ALLDAYEVENT:TRUE
SUMMARY:Romance at the Renaissance
DESCRIPTION:Romance at the Renaissance\nMonday\, February 14th\, 20116pmThe Ultimate Valentine's Day Evening with dinner\, live music and dancing!\n\nIn: Special Events\n\n\n\n\n\nRenaissance Theatre - www.mansfieldtickets.com - 419-522-2726
X-ALT-DESC;FMTTYPE=text/html:Romance at the Renaissance\nMonday\, February 14th\, 20116pmThe Ultimate Valentine's Day Evening with dinner\, live music and dancing!\n\nIn: Special Events\n\n\n\n\n\nRenaissance Theatre - www.mansfieldtickets.com - 419-522-2726\n
LOCATION:
UID:e.2256.408
SEQUENCE:3
DTSTAMP:20260425T003459Z
URL:https://portal.richlandareachamber.com/events/details/romance-at-the-renaissance-02-14-2011-408
END:VEVENT

END:VCALENDAR
