BEGIN:VCALENDAR
VERSION:2.0
PRODID:-//ChamberMaster//Event Calendar 2.0//EN
METHOD:PUBLISH
X-PUBLISHED-TTL:P3D
REFRESH-INTERVAL:P3D
CALSCALE:GREGORIAN
BEGIN:VEVENT
DTSTART:20110719T220000Z
DTEND:20110719T233000Z
X-MICROSOFT-CDO-ALLDAYEVENT:FALSE
SUMMARY:Richland Moves! Meeting
DESCRIPTION:Meeting to continue planning and advocacy efforts to increase bicycle and pedestrian friendly changes in Richland County. Will discuss advocacy workshop options\, Sunday Parkway planning\, progress reports on new bike parking\, and update on bike and pedestrian plans.
X-ALT-DESC;FMTTYPE=text/html:Meeting to continue planning and advocacy efforts to increase bicycle and pedestrian friendly changes in Richland County. Will discuss advocacy workshop options\, Sunday Parkway planning\, progress reports on new bike parking\, and update on bike and pedestrian plans. 
LOCATION:Meeting at the Richland Carrousel Park Picnic Grove\, or at the office of Downtown Mansfield Inc\, if raining.
UID:e.2256.596
SEQUENCE:3
DTSTAMP:20260424T165003Z
URL:https://portal.richlandareachamber.com/events/details/richland-moves-meeting-07-19-2011-596
END:VEVENT

END:VCALENDAR
