BEGIN:VCALENDAR
VERSION:2.0
PRODID:-//ChamberMaster//Event Calendar 2.0//EN
METHOD:PUBLISH
X-PUBLISHED-TTL:P3D
REFRESH-INTERVAL:P3D
CALSCALE:GREGORIAN
BEGIN:VEVENT
DTSTART:20110920T220000Z
DTEND:20110920T220000Z
X-MICROSOFT-CDO-ALLDAYEVENT:FALSE
SUMMARY:Richland Moves!
DESCRIPTION:Richland Moves! is providing input for a Bicycle Plan for the City of Mansfield\, the identification of bike routes and lanes\, support for road projects that include planning for bicyclists and pedestrians and promotion of bicycling events. This meeting is open to all who want to be part of making Richland County a great place to be active.
X-ALT-DESC;FMTTYPE=text/html:Richland Moves! is providing input for a Bicycle Plan for the City of Mansfield\, the identification of bike routes and lanes\, support for road projects that include planning for bicyclists and pedestrians and promotion of bicycling events. This meeting is open to all who want to be part of making Richland County a great place to be active. 
LOCATION:North End Community Improvement Collaborative (NECIC) 199 N. Walnut\, Mansfield OH
UID:e.2256.615
SEQUENCE:3
DTSTAMP:20260424T133928Z
URL:https://portal.richlandareachamber.com/events/details/richland-moves-09-20-2011-615
END:VEVENT

END:VCALENDAR
