BEGIN:VCALENDAR
VERSION:2.0
PRODID:-//ChamberMaster//Event Calendar 2.0//EN
METHOD:PUBLISH
X-PUBLISHED-TTL:P3D
REFRESH-INTERVAL:P3D
CALSCALE:GREGORIAN
BEGIN:VEVENT
DTSTART:20120315T120000Z
DTEND:20120315T200000Z
X-MICROSOFT-CDO-ALLDAYEVENT:FALSE
SUMMARY:Richland County Worksite Wellness Conference
DESCRIPTION:A full day conference for business owners\, senior management\, HR\, Wellness Team members\,and health professionals. Information and strategies will be presented that will enable employers to take a stand against rising costs of employee health care and will empower a healthier workforce. Local employer panel will share their successes. Pre-registration\, and registration fee of $20.00 required: call 419-774-4740 for information.
X-ALT-DESC;FMTTYPE=text/html:A full day conference for business owners\, senior management\, HR\, Wellness Team members\,and health professionals. Information and strategies will be presented that will enable employers to take a stand against rising costs of employee health care and will empower a healthier workforce. Local employer panel will share their successes. Pre-registration\, and registration fee of $20.00 required: call 419-774-4740 for information.
LOCATION:James W. Kehoe Center 175 Mansfield Avenue Shelby OH 44875 Located on St. Rt 39\, on east side of Shelby
UID:e.2256.648
SEQUENCE:3
DTSTAMP:20260422T180325Z
URL:https://portal.richlandareachamber.com/events/details/richland-county-worksite-wellness-conference-03-15-2012-648
END:VEVENT

END:VCALENDAR
