BEGIN:VCALENDAR
VERSION:2.0
PRODID:-//ChamberMaster//Event Calendar 2.0//EN
METHOD:PUBLISH
X-PUBLISHED-TTL:P3D
REFRESH-INTERVAL:P3D
CALSCALE:GREGORIAN
BEGIN:VEVENT
DTSTART:20110416T120000Z
DTEND:20110416T170000Z
X-MICROSOFT-CDO-ALLDAYEVENT:FALSE
SUMMARY:Richland Co SWCD Tree Sale
DESCRIPTION:2011 Richland County SWCD Tree Sale\n\nThe Clearfork FFA will be partnering with the SWCD for the 2011 tree seedling sale. April 15th from 9:00 am - 6:00 pm and Saturday April 16th 8:00 am – 1:00 pm. The sale will take place at the Richland County Fairgrounds Nature Park. Trees will also be available in the Ag room on April 15th from 7:00 am – 5:00 pm. Cost is $10.00/10 tree bundles. \n\nThe following trees will be available\n\nEvergreens\nColorado blue spruce \nNorway spruce\nWhite pine\nAustrian pine\nCanaan fir\nCanadian hemlock\nArborvitae\n\nLarge Tree\nScarlet Oak\nWhite Oak\nSugar Maple\nCatalpa\nPersimmon\nTulip Tree\nRed Oak\nBlack Walnut\n\nBroadleaf Shrubs\n\nCommon Paw Paw\nOhio Buckeye
X-ALT-DESC;FMTTYPE=text/html:2011 Richland County SWCD Tree Sale\n\nThe Clearfork FFA will be partnering with the SWCD for the 2011 tree seedling sale. April 15th from 9:00 am - 6:00 pm and Saturday April 16th 8:00 am – 1:00 pm. The sale will take place at the Richland County Fairgrounds Nature Park. Trees will also be available in the Ag room on April 15th from 7:00 am – 5:00 pm. Cost is $10.00/10 tree bundles. \n\nThe following trees will be available\n\nEvergreens\nColorado blue spruce \nNorway spruce\nWhite pine\nAustrian pine\nCanaan fir\nCanadian hemlock\nArborvitae\n\nLarge Tree\nScarlet Oak\nWhite Oak\nSugar Maple\nCatalpa\nPersimmon\nTulip Tree\nRed Oak\nBlack Walnut\n\nBroadleaf Shrubs\n\nCommon Paw Paw\nOhio Buckeye\n
LOCATION:Richland Co Fairgrounds ----- Nature Center buliding
UID:e.2256.517
SEQUENCE:3
DTSTAMP:20260424T225405Z
URL:https://portal.richlandareachamber.com/events/details/richland-co-swcd-tree-sale-04-16-2011-517
END:VEVENT

END:VCALENDAR
