BEGIN:VCALENDAR
VERSION:2.0
PRODID:-//ChamberMaster//Event Calendar 2.0//EN
METHOD:PUBLISH
X-PUBLISHED-TTL:P3D
REFRESH-INTERVAL:P3D
CALSCALE:GREGORIAN
BEGIN:VEVENT
DTSTART:20110923T170000Z
DTEND:20110923T230000Z
X-MICROSOFT-CDO-ALLDAYEVENT:FALSE
SUMMARY:Ribbon Cutting/Grand Opening
DESCRIPTION:Enter to win 1 of 5 gift baskets created with all Ohio Made products and items! Light refreshment and food sampling from local businesses.
X-ALT-DESC;FMTTYPE=text/html:Enter to win 1 of 5 gift baskets created with all Ohio Made products and items! Light refreshment and food sampling from local businesses. 
LOCATION:Same complex as Whats for Dessert and Apple A Day!Across from Swifty Gas.
UID:e.2256.616
SEQUENCE:3
DTSTAMP:20260424T121537Z
URL:https://portal.richlandareachamber.com/events/details/ribbon-cutting-grand-opening-09-23-2011-616
END:VEVENT

END:VCALENDAR
