BEGIN:VCALENDAR
VERSION:2.0
PRODID:-//ChamberMaster//Event Calendar 2.0//EN
METHOD:PUBLISH
X-PUBLISHED-TTL:P3D
REFRESH-INTERVAL:P3D
CALSCALE:GREGORIAN
BEGIN:VEVENT
DTSTART:20100606T190000Z
DTEND:20100606T190000Z
X-MICROSOFT-CDO-ALLDAYEVENT:FALSE
SUMMARY:Remember Me Always: High School Yearbook 1977
DESCRIPTION:This world premiere musical comedy makes its pre-Broadway debut right here on the Renaissance stage! \n\n\n    Get more information HERE
X-ALT-DESC;FMTTYPE=text/html:<p>\n    This world premiere musical comedy makes its pre-Broadway debut right here on the Renaissance stage! \n</p>\n<p>\n    Get more information <a href="http://www.mansfieldtickets.com/events/all">HERE</a><a href="http://www.mansfieldtickets.com/events/all"></a><a href="http://www.mansfieldtickets.com/events/all"></a> \n</p>
LOCATION:
UID:e.2256.156
SEQUENCE:3
DTSTAMP:20260425T121647Z
URL:https://portal.richlandareachamber.com/events/details/remember-me-always-high-school-yearbook-1977-06-06-2010-156
END:VEVENT

END:VCALENDAR
