BEGIN:VCALENDAR
VERSION:2.0
PRODID:-//ChamberMaster//Event Calendar 2.0//EN
METHOD:PUBLISH
X-PUBLISHED-TTL:P3D
REFRESH-INTERVAL:P3D
CALSCALE:GREGORIAN
BEGIN:VEVENT
DTSTART:20100220T170000Z
DTEND:20100221T020000Z
X-MICROSOFT-CDO-ALLDAYEVENT:FALSE
SUMMARY:Rehab Telethon
DESCRIPTION:Rehab Telethon raises money for those clients who are underinsured or have no insurance to pay for services.  Watch WMFD TV 68 from 12 Noon to 9 p.m. or come out to Richland Mall and see it live.
X-ALT-DESC;FMTTYPE=text/html:Rehab Telethon raises money for those clients who are underinsured or have no insurance to pay for services.  Watch WMFD TV 68 from 12 Noon to 9 p.m. or come out to Richland Mall and see it live.  \n
LOCATION:Richland Mall Ontario Ohio
UID:e.2256.250
SEQUENCE:3
DTSTAMP:20260425T180514Z
URL:https://portal.richlandareachamber.com/events/details/rehab-telethon-02-20-2010-250
END:VEVENT

END:VCALENDAR
