BEGIN:VCALENDAR
VERSION:2.0
PRODID:-//ChamberMaster//Event Calendar 2.0//EN
METHOD:PUBLISH
X-PUBLISHED-TTL:P3D
REFRESH-INTERVAL:P3D
CALSCALE:GREGORIAN
BEGIN:VEVENT
DTSTART:20110205T170000Z
DTEND:20110206T020000Z
X-MICROSOFT-CDO-ALLDAYEVENT:FALSE
SUMMARY:Rehab Telethon
DESCRIPTION:We invite you to join in the fun and excitement of the 2011 Rehab Telethon Live in the Center Court at Richland Mall on February 5!  Come and "Watch it Happen!"\nLIVE ENTERTAINMENT AND CHILDREN'S ACTIVITIES\nAll proceeds will benefit The Rehab Center\, a non-profit comprehensive outpatient rehabilitation center serving children and adults in north central Ohio.
X-ALT-DESC;FMTTYPE=text/html:We invite you to join in the fun and excitement of the 2011 Rehab Telethon Live in the Center Court at Richland Mall on February 5!  Come and "Watch it Happen!"\nLIVE ENTERTAINMENT AND CHILDREN'S ACTIVITIES\nAll proceeds will benefit The Rehab Center\, a non-profit comprehensive outpatient rehabilitation center serving children and adults in north central Ohio.
LOCATION:Center Court at Richland Mall\, Ontario\, Ohio
UID:e.2256.378
SEQUENCE:3
DTSTAMP:20260425T020015Z
URL:https://portal.richlandareachamber.com/events/details/rehab-telethon-02-05-2011-378
END:VEVENT

END:VCALENDAR
