BEGIN:VCALENDAR
VERSION:2.0
PRODID:-//ChamberMaster//Event Calendar 2.0//EN
METHOD:PUBLISH
X-PUBLISHED-TTL:P3D
REFRESH-INTERVAL:P3D
CALSCALE:GREGORIAN
BEGIN:VEVENT
DTSTART:20110519T120000Z
DTEND:20110519T140000Z
X-MICROSOFT-CDO-ALLDAYEVENT:FALSE
SUMMARY:Real Heroes of the American Red Cross
DESCRIPTION:The Richland County Chapter of the American Red Cross invites you to share in this opportunity to celebrate the heroes among us\, who inspire us by their actions\, compassion\, and dedication to serving others.
X-ALT-DESC;FMTTYPE=text/html:The Richland County Chapter of the American Red Cross invites you to share in this opportunity to celebrate the heroes among us\, who inspire us by their actions\, compassion\, and dedication to serving others. 
LOCATION:Mid-Ohio Conference Center
UID:e.2256.509
SEQUENCE:3
DTSTAMP:20260424T195601Z
URL:https://portal.richlandareachamber.com/events/details/real-heroes-of-the-american-red-cross-05-19-2011-509
END:VEVENT

END:VCALENDAR
