BEGIN:VCALENDAR
VERSION:2.0
PRODID:-//ChamberMaster//Event Calendar 2.0//EN
METHOD:PUBLISH
X-PUBLISHED-TTL:P3D
REFRESH-INTERVAL:P3D
CALSCALE:GREGORIAN
BEGIN:VEVENT
DTSTART;VALUE=DATE:20110401
DTEND;VALUE=DATE:20110402
TRANSP:TRANSPARENT
X-MICROSOFT-CDO-ALLDAYEVENT:TRUE
SUMMARY:Ralph Stanley and the Clinch Mountain Boys
DESCRIPTION:Ralph Stanley and the Clinch Mountain Boys\nFriday\, April 1st\, 2011  8:00 PM  "A master performer without an expiration date"...Rolling Stone Magazine\n\nIn: The Blockhouse Bluegrass Festival\n\n\n\n\n\n\n\n\n\n\n\nRenaissance Theatre - www.mansfieldtickets.com - 419-522-2726
X-ALT-DESC;FMTTYPE=text/html:Ralph Stanley and the Clinch Mountain Boys\nFriday\, April 1st\, 2011  8:00 PM  "A master performer without an expiration date"...Rolling Stone Magazine\n\nIn: The Blockhouse Bluegrass Festival\n\n\n\n\n\n\n\n\n\n\n\nRenaissance Theatre - www.mansfieldtickets.com - 419-522-2726\n
LOCATION:
UID:e.2256.418
SEQUENCE:3
DTSTAMP:20260424T212825Z
URL:https://portal.richlandareachamber.com/events/details/ralph-stanley-and-the-clinch-mountain-boys-04-01-2011-418
END:VEVENT

END:VCALENDAR
