BEGIN:VCALENDAR
VERSION:2.0
PRODID:-//ChamberMaster//Event Calendar 2.0//EN
METHOD:PUBLISH
X-PUBLISHED-TTL:P3D
REFRESH-INTERVAL:P3D
CALSCALE:GREGORIAN
BEGIN:VEVENT
DTSTART:20110718T220000Z
DTEND:20110719T000000Z
X-MICROSOFT-CDO-ALLDAYEVENT:FALSE
SUMMARY:Raising Richland Community Garden Gathering
DESCRIPTION:Tour of North Lake Community Garden\, question and answer with Master Gardener Volunteers\, review of resource guides for gardeners\, networking opportunities.
X-ALT-DESC;FMTTYPE=text/html:Tour of North Lake Community Garden\, question and answer with Master Gardener Volunteers\, review of resource guides for gardeners\, networking opportunities. 
LOCATION:Garden is located at 271 Rowland Avenue\, 3 houses from the Rowland Avenue entrance to North Lake Park\, Mansfield. Rain location is the North Lake Park picnic shslter. Bring a lawn chair.
UID:e.2256.599
SEQUENCE:3
DTSTAMP:20260424T165052Z
URL:https://portal.richlandareachamber.com/events/details/raising-richland-community-garden-gathering-07-18-2011-599
END:VEVENT

END:VCALENDAR
