BEGIN:VCALENDAR
VERSION:2.0
PRODID:-//ChamberMaster//Event Calendar 2.0//EN
METHOD:PUBLISH
X-PUBLISHED-TTL:P3D
REFRESH-INTERVAL:P3D
CALSCALE:GREGORIAN
BEGIN:VEVENT
DTSTART:20110313T013000Z
DTEND:20110313T043000Z
X-MICROSOFT-CDO-ALLDAYEVENT:FALSE
SUMMARY:Race Band Trio Unplugged
DESCRIPTION:Local hometown favorites return. Saturday March 12\, 2011 Race Band Trio live and unplugged\, 8:30-11:30pm. As always no cover charge\, reservations recommended.
X-ALT-DESC;FMTTYPE=text/html:Local hometown favorites return. Saturday March 12\, 2011 Race Band Trio live and unplugged\, 8:30-11:30pm. As always no cover charge\, reservations recommended.
LOCATION:777 Lexington Ave.
UID:e.2256.508
SEQUENCE:3
DTSTAMP:20260424T225504Z
URL:https://portal.richlandareachamber.com/events/details/race-band-trio-unplugged-03-12-2011-508
END:VEVENT

END:VCALENDAR
