BEGIN:VCALENDAR
VERSION:2.0
PRODID:-//ChamberMaster//Event Calendar 2.0//EN
METHOD:PUBLISH
X-PUBLISHED-TTL:P3D
REFRESH-INTERVAL:P3D
CALSCALE:GREGORIAN
BEGIN:VEVENT
DTSTART:20100523T000000Z
DTEND:20100523T000000Z
X-MICROSOFT-CDO-ALLDAYEVENT:FALSE
SUMMARY:Puttin on the Ritz- A Century of Dance
DESCRIPTION:The Mansfield Symphony is joined by Neos Dance Theatre for this tribute to the greatest dance styles of the twentieth century. \n\n\n    Get more information HERE
X-ALT-DESC;FMTTYPE=text/html:<p>\n    The Mansfield Symphony is joined by Neos Dance Theatre for this tribute to the greatest dance styles of the twentieth century. \n</p>\n<p>\n    Get more information <a href="http://www.mansfieldtickets.com/events/all">HERE</a><a href="http://www.mansfieldtickets.com/events/all"></a><a href="http://www.mansfieldtickets.com/events/all"></a> \n</p>
LOCATION:
UID:e.2256.154
SEQUENCE:3
DTSTAMP:20260425T134649Z
URL:https://portal.richlandareachamber.com/events/details/puttin-on-the-ritz-a-century-of-dance-05-22-2010-154
END:VEVENT

END:VCALENDAR
