BEGIN:VCALENDAR
VERSION:2.0
PRODID:-//ChamberMaster//Event Calendar 2.0//EN
METHOD:PUBLISH
X-PUBLISHED-TTL:P3D
REFRESH-INTERVAL:P3D
CALSCALE:GREGORIAN
BEGIN:VEVENT
DTSTART:20100215T160000Z
DTEND:20100312T210000Z
X-MICROSOFT-CDO-ALLDAYEVENT:FALSE
SUMMARY:Presentation
DESCRIPTION:Art exhibition "Abstractions".  The show features two painters and one print maker.  The work draw from today's media habits like texting\, abbreviating and converting known objects to designs.  Gallery admission is free
X-ALT-DESC;FMTTYPE=text/html:Art exhibition "Abstractions".  The show features two painters and one print maker.  The work draw from today's media habits like texting\, abbreviating and converting known objects to designs.  Gallery admission is free 
LOCATION:The OSU Mansfield campus
UID:e.2256.278
SEQUENCE:3
DTSTAMP:20260425T164438Z
URL:https://portal.richlandareachamber.com/events/details/presentation-02-15-2010-278
END:VEVENT

END:VCALENDAR
