BEGIN:VCALENDAR
VERSION:2.0
PRODID:-//ChamberMaster//Event Calendar 2.0//EN
METHOD:PUBLISH
X-PUBLISHED-TTL:P3D
REFRESH-INTERVAL:P3D
CALSCALE:GREGORIAN
BEGIN:VEVENT
DTSTART:20100507T230000Z
DTEND:20100507T230000Z
X-MICROSOFT-CDO-ALLDAYEVENT:FALSE
SUMMARY:Preparing Mexican foods
DESCRIPTION:On May 7 (Fri.)\, Spanish lecturer Rhonda Moody will teach the audience how to prepare some of her favorite Mexican foods.  The event will take place at 7:00 p.m. at Café on Main in downtown Mansfield.  Tickets are $3 in advance and can be obtained by calling 419-755-4314.  Tickets must be picked up by Thursday\, April 29
X-ALT-DESC;FMTTYPE=text/html:On May 7 (Fri.)\, Spanish lecturer Rhonda Moody will teach the audience how to prepare some of her favorite Mexican foods.  The event will take place at 7:00 p.m. at Café on Main in downtown Mansfield.  Tickets are $3 in advance and can be obtained by calling 419-755-4314.  Tickets must be picked up by Thursday\, April 29
LOCATION:Cafe on Main in downtown Mansfield
UID:e.2256.308
SEQUENCE:3
DTSTAMP:20260425T134246Z
URL:https://portal.richlandareachamber.com/events/details/preparing-mexican-foods-05-07-2010-308
END:VEVENT

END:VCALENDAR
