BEGIN:VCALENDAR
VERSION:2.0
PRODID:-//ChamberMaster//Event Calendar 2.0//EN
METHOD:PUBLISH
X-PUBLISHED-TTL:P3D
REFRESH-INTERVAL:P3D
CALSCALE:GREGORIAN
BEGIN:VEVENT
DTSTART:20111110T233000Z
DTEND:20111111T133000Z
X-MICROSOFT-CDO-ALLDAYEVENT:FALSE
SUMMARY:Precious in His Sight - Dr. Bruce Wilkinson
DESCRIPTION:This annual fundraising banquet is to benefit Richland Pregnancy Services.  If you would like to attend\, please call Jim Morgan at 419-522-8863\, ext. 203
X-ALT-DESC;FMTTYPE=text/html:This annual fundraising banquet is to benefit Richland Pregnancy Services.  If you would like to attend\, please call Jim Morgan at 419-522-8863\, ext. 203
LOCATION:Mid-Ohio Conference Center
UID:e.2256.625
SEQUENCE:3
DTSTAMP:20260424T111149Z
URL:https://portal.richlandareachamber.com/events/details/precious-in-his-sight-dr-bruce-wilkinson-11-10-2011-625
END:VEVENT

END:VCALENDAR
