BEGIN:VCALENDAR
VERSION:2.0
PRODID:-//ChamberMaster//Event Calendar 2.0//EN
METHOD:PUBLISH
X-PUBLISHED-TTL:P3D
REFRESH-INTERVAL:P3D
CALSCALE:GREGORIAN
BEGIN:VEVENT
DTSTART:20100122T180000Z
DTEND:20101231T193000Z
X-MICROSOFT-CDO-ALLDAYEVENT:FALSE
SUMMARY:Prayer Shawl Ministry
DESCRIPTION:Ministry to make prayer shawls to comfort the family of loved ones who have passed.  Meets the 4th Friday of each month.
X-ALT-DESC;FMTTYPE=text/html:Ministry to make prayer shawls to comfort the family of loved ones who have passed.  Meets the 4th Friday of each month.
LOCATION:Hospice House\, Ashland 1050 Dauch Drive If using a GPS for directions\, please enter the address 2750 Mifflin Avenue. Dauch Drive does not show up on GPS or any mapping websites.
UID:e.2256.271
SEQUENCE:3
DTSTAMP:20260425T033706Z
URL:https://portal.richlandareachamber.com/events/details/prayer-shawl-ministry-01-22-2010-271
END:VEVENT

END:VCALENDAR
