BEGIN:VCALENDAR
VERSION:2.0
PRODID:-//ChamberMaster//Event Calendar 2.0//EN
METHOD:PUBLISH
X-PUBLISHED-TTL:P3D
REFRESH-INTERVAL:P3D
CALSCALE:GREGORIAN
BEGIN:VEVENT
DTSTART:20090823T150000Z
DTEND:20090824T010000Z
X-MICROSOFT-CDO-ALLDAYEVENT:FALSE
SUMMARY:Poker Run to benefit the March of Dimes
DESCRIPTION:Registration to begin at Samaritan on Main\,Ashland OH-will end at Buck's Bar and Grill in Lexington.  $20 per person or $30 per couple.  Bikers will enjoy 6 stops total\, with a scenic ride through Ashland and Richland counties\, including a ride through the heart of the Mohican Forest\, and through Butler and Bellville\, to end at Buck's in Lexington where riders will enjoy the local band Heartbroke.  Cash bar will be available.
X-ALT-DESC;FMTTYPE=text/html:Registration to begin at Samaritan on Main\,Ashland OH-will end at Buck's Bar and Grill in Lexington.  $20 per person or $30 per couple.  Bikers will enjoy 6 stops total\, with a scenic ride through Ashland and Richland counties\, including a ride through the heart of the Mohican Forest\, and through Butler and Bellville\, to end at Buck's in Lexington where riders will enjoy the local band Heartbroke.  Cash bar will be available.
LOCATION:Take 71 into Ashland\, exit at Rt250\, turn Left. Samaritan on Main will be on the Left\, next to Autozone and Lurray Lanes. Maps of the route will be available at registration
UID:e.2256.78
SEQUENCE:3
DTSTAMP:20260426T022357Z
URL:https://portal.richlandareachamber.com/events/details/poker-run-to-benefit-the-march-of-dimes-08-23-2009-78
END:VEVENT

END:VCALENDAR
