BEGIN:VCALENDAR
VERSION:2.0
PRODID:-//ChamberMaster//Event Calendar 2.0//EN
METHOD:PUBLISH
X-PUBLISHED-TTL:P3D
REFRESH-INTERVAL:P3D
CALSCALE:GREGORIAN
BEGIN:VEVENT
DTSTART:20110515T000000Z
DTEND:20110515T030000Z
X-MICROSOFT-CDO-ALLDAYEVENT:FALSE
SUMMARY:Playing live Saturday May 14\, EKG\, from 8-11pm
DESCRIPTION:For the first time at Sweeney's American Bistro\, Saturday May 14\, playing live\, EKG. Playing from 8-11pm. As always no cover\, reservations recommended.
X-ALT-DESC;FMTTYPE=text/html:For the first time at Sweeney's American Bistro\, Saturday May 14\, playing live\, EKG. Playing from 8-11pm. As always no cover\, reservations recommended.
LOCATION:Between the Y and Rite Aid on Lexington Ave.
UID:e.2256.595
SEQUENCE:3
DTSTAMP:20260424T195415Z
URL:https://portal.richlandareachamber.com/events/details/playing-live-saturday-may-14-ekg-from-8-11pm-05-14-2011-595
END:VEVENT

END:VCALENDAR
