BEGIN:VCALENDAR
VERSION:2.0
PRODID:-//ChamberMaster//Event Calendar 2.0//EN
METHOD:PUBLISH
X-PUBLISHED-TTL:P3D
REFRESH-INTERVAL:P3D
CALSCALE:GREGORIAN
BEGIN:VEVENT
DTSTART:20110717T000000Z
DTEND:20110717T030000Z
X-MICROSOFT-CDO-ALLDAYEVENT:FALSE
SUMMARY:Playing live Saturday July 16\, from 8 - 11pm\, Dr. Simple
DESCRIPTION:Local favorite playing at Sweeney's American Bistro\, Saturday July 16\, from 8 - 11pm\, Dr. Simple. As always no cover\, make your reservations now.
X-ALT-DESC;FMTTYPE=text/html:Local favorite playing at Sweeney's American Bistro\, Saturday July 16\, from 8 - 11pm\, Dr. Simple. As always no cover\, make your reservations now.
LOCATION:Sweeney's American Bistro is located between the Y and RiteAid on Lexington Ave.
UID:e.2256.601
SEQUENCE:3
DTSTAMP:20260424T165109Z
URL:https://portal.richlandareachamber.com/events/details/playing-live-saturday-july-16-from-8-11pm-dr-simple-07-16-2011-601
END:VEVENT

END:VCALENDAR
