BEGIN:VCALENDAR
VERSION:2.0
PRODID:-//ChamberMaster//Event Calendar 2.0//EN
METHOD:PUBLISH
X-PUBLISHED-TTL:P3D
REFRESH-INTERVAL:P3D
CALSCALE:GREGORIAN
BEGIN:VEVENT
DTSTART:20110918T000000Z
DTEND:20110918T030000Z
X-MICROSOFT-CDO-ALLDAYEVENT:FALSE
SUMMARY:Playing live for the first time at Sweeney's American Bistro\, Signature. Enjoy the brilliant easy listening sounds of to
DESCRIPTION:Playing Saturday September 17\, live for the first time at Sweeney's American Bistro\, Signature\, from 8-11pm. Easy listening top 40 covers from the 80's\, 90's and today. As always no cover\, make your reservations now to see this very talented local duo.
X-ALT-DESC;FMTTYPE=text/html:Playing Saturday September 17\, live for the first time at Sweeney's American Bistro\, Signature\, from 8-11pm. Easy listening top 40 covers from the 80's\, 90's and today. As always no cover\, make your reservations now to see this very talented local duo.
LOCATION:located between Rite-aid and the Y on Lexington Ave.
UID:e.2256.613
SEQUENCE:3
DTSTAMP:20260424T153548Z
URL:https://portal.richlandareachamber.com/events/details/playing-live-for-the-first-time-at-sweeney-s-american-bistro-signature-enjoy-the-brilliant-easy-listening-sounds-of-to-09-17-2011-613
END:VEVENT

END:VCALENDAR
