BEGIN:VCALENDAR
VERSION:2.0
PRODID:-//ChamberMaster//Event Calendar 2.0//EN
METHOD:PUBLISH
X-PUBLISHED-TTL:P3D
REFRESH-INTERVAL:P3D
CALSCALE:GREGORIAN
BEGIN:VEVENT
DTSTART:20110501T000000Z
DTEND:20110501T030000Z
X-MICROSOFT-CDO-ALLDAYEVENT:FALSE
SUMMARY:Playing live Dr. Simple
DESCRIPTION:You simply do not want to  miss this local favorite. Playing live Saturday April 30\, from 8-11pm\, Dr. Simple. As always no cover charge\, reservations are recommended.
X-ALT-DESC;FMTTYPE=text/html:You simply do not want to  miss this local favorite. Playing live Saturday April 30\, from 8-11pm\, Dr. Simple. As always no cover charge\, reservations are recommended.
LOCATION:777 Lexington Ave. close to the Y.
UID:e.2256.539
SEQUENCE:3
DTSTAMP:20260424T212253Z
URL:https://portal.richlandareachamber.com/events/details/playing-live-dr-simple-04-30-2011-539
END:VEVENT

END:VCALENDAR
