BEGIN:VCALENDAR
VERSION:2.0
PRODID:-//ChamberMaster//Event Calendar 2.0//EN
METHOD:PUBLISH
X-PUBLISHED-TTL:P3D
REFRESH-INTERVAL:P3D
CALSCALE:GREGORIAN
BEGIN:VEVENT
DTSTART:20111113T013000Z
DTEND:20111113T043000Z
X-MICROSOFT-CDO-ALLDAYEVENT:FALSE
SUMMARY:Playing live at Sweeney's American Bistro Saturday November 12\, from 8:30-11:30\, The Caffiends
DESCRIPTION:Unwind with us before the Thanksgiving Holiday.Playing live at Sweeney's American Bistro Saturday November 12\, from 8:30-11:30\, The Caffiends. As always no cover\, make your reservations now!
X-ALT-DESC;FMTTYPE=text/html: Unwind with us before the Thanksgiving Holiday.Playing live at Sweeney's American Bistro Saturday November 12\, from 8:30-11:30\, The Caffiends. As always no cover\, make your reservations now!
LOCATION:Between Rite-Aid and the Y on Lexington Ave.
UID:e.2256.627
SEQUENCE:3
DTSTAMP:20260424T100137Z
URL:https://portal.richlandareachamber.com/events/details/playing-live-at-sweeney-s-american-bistro-saturday-november-12-from-8-30-11-30-the-caffiends-11-12-2011-627
END:VEVENT

END:VCALENDAR
