BEGIN:VCALENDAR
VERSION:2.0
PRODID:-//ChamberMaster//Event Calendar 2.0//EN
METHOD:PUBLISH
X-PUBLISHED-TTL:P3D
REFRESH-INTERVAL:P3D
CALSCALE:GREGORIAN
BEGIN:VEVENT
DTSTART:20110821T000000Z
DTEND:20110821T030000Z
X-MICROSOFT-CDO-ALLDAYEVENT:FALSE
SUMMARY:Playing live at Sweeney's American Bistro\, Sat. Aug.20\, from 8-11pm\, The Caffiends.
DESCRIPTION:Join in the fabulous food and atmosphere\, fantastic music\, and superb service\, Saturday August 20 at Sweeney's American Bistro. The Caffiends are back and playing live from 8-11pm. As always no cover\, reservations highly recommended\, the dance floor will be full!
X-ALT-DESC;FMTTYPE=text/html:Join in the fabulous food and atmosphere\, fantastic music\, and superb service\, Saturday August 20 at Sweeney's American Bistro. The Caffiends are back and playing live from 8-11pm. As always no cover\, reservations highly recommended\, the dance floor will be full!
LOCATION:On Lexington Ave. between Rite Aid and the Y.
UID:e.2256.606
SEQUENCE:3
DTSTAMP:20260424T153434Z
URL:https://portal.richlandareachamber.com/events/details/playing-live-at-sweeney-s-american-bistro-sat-aug-20-from-8-11pm-the-caffiends-08-20-2011-606
END:VEVENT

END:VCALENDAR
