BEGIN:VCALENDAR
VERSION:2.0
PRODID:-//ChamberMaster//Event Calendar 2.0//EN
METHOD:PUBLISH
X-PUBLISHED-TTL:P3D
REFRESH-INTERVAL:P3D
CALSCALE:GREGORIAN
BEGIN:VEVENT
DTSTART:20091220T180000Z
DTEND:20091220T210000Z
X-MICROSOFT-CDO-ALLDAYEVENT:FALSE
SUMMARY:Photos with Santa at the Richland Carrousel Park
DESCRIPTION:Photos with Santa are provided by Volunteers of the Carrousel.  A $5.00 donation will be greatly appreciated for you photo.\n\n\n\nFor more information\, please call 419-522-4223 or visit www.richlandcarrousel.com\n\n75 N. Main St. \, Mansfield\, OH 44902.
X-ALT-DESC;FMTTYPE=text/html:<p>\n    Photos with Santa are provided by Volunteers of the Carrousel.&nbsp\; A $5.00 donation will be greatly appreciated for you photo.\n</p>\n<p>\n</p>\nFor more information\, please call 419-522-4223 or visit www.richlandcarrousel.com<br />\n<span class="event_location">75 N. Main St. \, Mansfield\, OH 44902.</span> \n<!--hr size="1px" noshade-->\n<br />
LOCATION:
UID:e.2256.172
SEQUENCE:3
DTSTAMP:20260425T203514Z
URL:https://portal.richlandareachamber.com/events/details/photos-with-santa-at-the-richland-carrousel-park-12-20-2009-172
END:VEVENT

END:VCALENDAR
