BEGIN:VCALENDAR
VERSION:2.0
PRODID:-//ChamberMaster//Event Calendar 2.0//EN
METHOD:PUBLISH
X-PUBLISHED-TTL:P3D
REFRESH-INTERVAL:P3D
CALSCALE:GREGORIAN
BEGIN:VEVENT
DTSTART;VALUE=DATE:20110630
DTEND;VALUE=DATE:20110701
TRANSP:TRANSPARENT
X-MICROSOFT-CDO-ALLDAYEVENT:TRUE
SUMMARY:Patriotic Pops!
DESCRIPTION:Patriotic Pops!\nThursday\, June 30th\, 2011   7:00 PM   Sousa marches\, hot dogs\, the biggest American Flag in Richland County and the Mansfield Symphony and Chorus!\n\nIn: Performance Schedule\n\n\n\n\n\n\n\nRenaissance Theatre - www.mansfieldtickets.com - 419-522-2726
X-ALT-DESC;FMTTYPE=text/html:Patriotic Pops!\nThursday\, June 30th\, 2011   7:00 PM   Sousa marches\, hot dogs\, the biggest American Flag in Richland County and the Mansfield Symphony and Chorus!\n\nIn: Performance Schedule\n\n\n\n\n\n\n\nRenaissance Theatre - www.mansfieldtickets.com - 419-522-2726\n
LOCATION:
UID:e.2256.428
SEQUENCE:3
DTSTAMP:20260424T181759Z
URL:https://portal.richlandareachamber.com/events/details/patriotic-pops-06-30-2011-428
END:VEVENT

END:VCALENDAR
