BEGIN:VCALENDAR
VERSION:2.0
PRODID:-//ChamberMaster//Event Calendar 2.0//EN
METHOD:PUBLISH
X-PUBLISHED-TTL:P3D
REFRESH-INTERVAL:P3D
CALSCALE:GREGORIAN
BEGIN:VEVENT
DTSTART:20100124T010000Z
DTEND:20100124T010000Z
X-MICROSOFT-CDO-ALLDAYEVENT:FALSE
SUMMARY:Parrots of the Caribbean
DESCRIPTION:Palm trees\, margaritas and cheeseburgers... The premiere Jimmy Buffett tribute band in the country hits the stage of the Ren just in time to drive away your post holiday winter blues. \n\n\n    Get more information HERE
X-ALT-DESC;FMTTYPE=text/html:<p>\n    Palm trees\, margaritas and cheeseburgers... The premiere Jimmy Buffett tribute band in the country hits the stage of the Ren just in time to drive away your post holiday winter blues. \n</p>\n<p>\n    Get more information <a href="http://www.mansfieldtickets.com/events/all">HERE</a><a href="http://www.mansfieldtickets.com/events/all"></a><a href="http://www.mansfieldtickets.com/events/all"></a> \n</p>
LOCATION:
UID:e.2256.158
SEQUENCE:3
DTSTAMP:20260425T192656Z
URL:https://portal.richlandareachamber.com/events/details/parrots-of-the-caribbean-01-23-2010-158
END:VEVENT

END:VCALENDAR
