BEGIN:VCALENDAR
VERSION:2.0
PRODID:-//ChamberMaster//Event Calendar 2.0//EN
METHOD:PUBLISH
X-PUBLISHED-TTL:P3D
REFRESH-INTERVAL:P3D
CALSCALE:GREGORIAN
BEGIN:VEVENT
DTSTART:20100113T000000Z
DTEND:20110101T013000Z
X-MICROSOFT-CDO-ALLDAYEVENT:FALSE
SUMMARY:Parent's Support Group
DESCRIPTION:Support group for parents who have experienced the death of a child.  Held the 2nd Tuesday of each month.
X-ALT-DESC;FMTTYPE=text/html:Support group for parents who have experienced the death of a child.  Held the 2nd Tuesday of each month.
LOCATION:Hospice House\, Ashland 1050 Dauch Drive If using a GPS for directions\, please enter the address 2750 Mifflin Avenue. Dauch Drive does not show up on GPS or any mapping websites.
UID:e.2256.266
SEQUENCE:3
DTSTAMP:20260425T033415Z
URL:https://portal.richlandareachamber.com/events/details/parent-s-support-group-01-12-2010-266
END:VEVENT

END:VCALENDAR
