BEGIN:VCALENDAR
VERSION:2.0
PRODID:-//ChamberMaster//Event Calendar 2.0//EN
METHOD:PUBLISH
X-PUBLISHED-TTL:P3D
REFRESH-INTERVAL:P3D
CALSCALE:GREGORIAN
BEGIN:VEVENT
DTSTART:20100109T000000Z
DTEND:20100109T000000Z
X-MICROSOFT-CDO-ALLDAYEVENT:FALSE
SUMMARY:OSU Mansfield Theatre & Mansfield Youth Theatre production of Disney's Beauty & the Beast Jr.
DESCRIPTION:January 8\, 9\, 15 & 16 at 7:00 p.m. and January 17 at 2:30 p.m.  Based on the Academy Award-winning animated feature\, the story follows Belle who encounters plenty of adventure when she becomes captive in the Beast's enchanted castle.  Tickets are $10 for general admission and $5 for youth\, and may be obtained by calling 419-755-4045.
X-ALT-DESC;FMTTYPE=text/html:January 8\, 9\, 15 & 16 at 7:00 p.m. and January 17 at 2:30 p.m.  Based on the Academy Award-winning animated feature\, the story follows Belle who encounters plenty of adventure when she becomes captive in the Beast's enchanted castle.  Tickets are $10 for general admission and $5 for youth\, and may be obtained by calling 419-755-4045.
LOCATION:In Founders Auditorium at the Ohio State University at Mansfield.
UID:e.2256.254
SEQUENCE:3
DTSTAMP:20260425T193136Z
URL:https://portal.richlandareachamber.com/events/details/osu-mansfield-theatre-mansfield-youth-theatre-production-of-disney-s-beauty-the-beast-jr-01-08-2010-254
END:VEVENT

END:VCALENDAR
