BEGIN:VCALENDAR
VERSION:2.0
PRODID:-//ChamberMaster//Event Calendar 2.0//EN
METHOD:PUBLISH
X-PUBLISHED-TTL:P3D
REFRESH-INTERVAL:P3D
CALSCALE:GREGORIAN
BEGIN:VEVENT
DTSTART:20120426T223000Z
DTEND:20120426T223000Z
X-MICROSOFT-CDO-ALLDAYEVENT:FALSE
SUMMARY:Organic Gardening with Dr. Earth
DESCRIPTION:Come learn how to be a better Steward of your little piece of the Earth! \n\nDr. Earth Company will be here \n\nOrganic Gardening and Healthy Soil.
X-ALT-DESC;FMTTYPE=text/html:Come learn how to be a better Steward of your little piece of the Earth! \n\nDr. Earth Company will be here \n\nOrganic Gardening and Healthy Soil. \n
LOCATION:Alta Florist & Greenhouse 935 Home Road South Mansfield\, OH 44906
UID:e.2256.661
SEQUENCE:3
DTSTAMP:20260422T162622Z
URL:https://portal.richlandareachamber.com/events/details/organic-gardening-with-dr-earth-04-26-2012-661
END:VEVENT

END:VCALENDAR
