BEGIN:VCALENDAR
VERSION:2.0
PRODID:-//ChamberMaster//Event Calendar 2.0//EN
METHOD:PUBLISH
X-PUBLISHED-TTL:P3D
REFRESH-INTERVAL:P3D
CALSCALE:GREGORIAN
BEGIN:VEVENT
DTSTART:20110209T190000Z
DTEND:20110209T233000Z
X-MICROSOFT-CDO-ALLDAYEVENT:FALSE
SUMMARY:Ontario Massage Clinic Winter OPEN HOUSE
DESCRIPTION:"Get Out of the Winter Blues" with us!\nBring your appetite for our gourmet touch!\nGuests receive a massage demo to experience our advanced therapy and meet our Therapists.\nEstablished clients receive a thank-you coupon on your next appointment. \nHCG Weight-Loss presentation available with Sally!\nRelax and enjoy a few minutes with us!
X-ALT-DESC;FMTTYPE=text/html:"Get Out of the Winter Blues" with us!\nBring your appetite for our gourmet touch!\nGuests receive a massage demo to experience our advanced therapy and meet our Therapists.\nEstablished clients receive a thank-you coupon on your next appointment. \nHCG Weight-Loss presentation available with Sally!\nRelax and enjoy a few minutes with us!
LOCATION:Ontario Massage Clinic 4198 Park Ave West (just past the Brown Derby Roadhouse) Ontario\, Ohio 44903
UID:e.2256.502
SEQUENCE:3
DTSTAMP:20260425T003702Z
URL:https://portal.richlandareachamber.com/events/details/ontario-massage-clinic-winter-open-house-02-09-2011-502
END:VEVENT

END:VCALENDAR
