BEGIN:VCALENDAR
VERSION:2.0
PRODID:-//ChamberMaster//Event Calendar 2.0//EN
METHOD:PUBLISH
X-PUBLISHED-TTL:P3D
REFRESH-INTERVAL:P3D
CALSCALE:GREGORIAN
BEGIN:VEVENT
DTSTART:20090704T121500Z
DTEND:20090705T020000Z
X-MICROSOFT-CDO-ALLDAYEVENT:FALSE
SUMMARY:Ontario 4th of July - Ontario School Grounds
DESCRIPTION:Family fun all day long.\n\n8:15am - 11:00am: Ontario 5K Liberty Run/Walk \n9:00am - 1:00pm Ontario Youth Sports All-Stars\n1:00pm - 11:0 pm Festival Opens\n1:00pm - 4:00pm Ontario Growth Association Car Show\n1:00pm - 4:30pm: Air Show (Radio Controlled Airplanaes)\n1:00pm - 1:30pm: O.Y.S. Baseball and Softball Awards \n1:30pm - 3:00pm: O'Charley's Egg Run / Egg Toss \n1:30pm - 3:30pm: Kiddy Tractor Pull Contest \n2:00pm - 4:00pm: Ontario Lions Club Frog Jumping Contest \n2:30pm - 3:15pm: Watermelon Eating Contest\n3:30pm - 3:45pm: Jello Eating Contest\n3:30pm - 8:30pm: Doc Allen's Magic Caravan Show\n                                  Shows @3:30\; 4:30\; 6:30 & 7:30\n4:30pm - 5:00pm: Ontario 4th of July Parade \n6:00pm - 9:00pm: Corn Hole Tournament (free play 1:00-6:00)\n6:00pm - 9:15pm Redball Jets Band\n6:30pm - 7:00pm: Richland Bank Treasure Hunt\n7:00pm - 7:45pm: Besta Fasta Pizza Eating Contest \n8:00pm - 8:45pm: Buffalo Wild Wings Eating Contest \n8:45pm - 9:00pm: Marching Warriors\n9:15pm:                   National Anthem by Steven Barker\n10:00pm:                 Ontario City Fireworks Display
X-ALT-DESC;FMTTYPE=text/html:Family fun all day long.\n\n8:15am - 11:00am: Ontario 5K Liberty Run/Walk \n9:00am - 1:00pm Ontario Youth Sports All-Stars\n1:00pm - 11:0 pm Festival Opens\n1:00pm - 4:00pm Ontario Growth Association Car Show\n1:00pm - 4:30pm: Air Show (Radio Controlled Airplanaes)\n1:00pm - 1:30pm: O.Y.S. Baseball and Softball Awards \n1:30pm - 3:00pm: O'Charley's Egg Run / Egg Toss \n1:30pm - 3:30pm: Kiddy Tractor Pull Contest \n2:00pm - 4:00pm: Ontario Lions Club Frog Jumping Contest \n2:30pm - 3:15pm: Watermelon Eating Contest\n3:30pm - 3:45pm: Jello Eating Contest\n3:30pm - 8:30pm: Doc Allen's Magic Caravan Show\n                                  Shows @3:30\; 4:30\; 6:30 & 7:30\n4:30pm - 5:00pm: Ontario 4th of July Parade \n6:00pm - 9:00pm: Corn Hole Tournament (free play 1:00-6:00)\n6:00pm - 9:15pm Redball Jets Band\n6:30pm - 7:00pm: Richland Bank Treasure Hunt\n7:00pm - 7:45pm: Besta Fasta Pizza Eating Contest \n8:00pm - 8:45pm: Buffalo Wild Wings Eating Contest \n8:45pm - 9:00pm: Marching Warriors\n9:15pm:                   National Anthem by Steven Barker\n10:00pm:                 Ontario City Fireworks Display\n
LOCATION:Ontario School Grounds
UID:e.2256.25
SEQUENCE:3
DTSTAMP:20260426T040318Z
URL:https://portal.richlandareachamber.com/events/details/ontario-4th-of-july-ontario-school-grounds-07-04-2009-25
END:VEVENT

END:VCALENDAR
