BEGIN:VCALENDAR
VERSION:2.0
PRODID:-//ChamberMaster//Event Calendar 2.0//EN
METHOD:PUBLISH
X-PUBLISHED-TTL:P3D
REFRESH-INTERVAL:P3D
CALSCALE:GREGORIAN
BEGIN:VEVENT
DTSTART:20110702T160000Z
DTEND:20110703T030000Z
X-MICROSOFT-CDO-ALLDAYEVENT:FALSE
SUMMARY:Ontario 4th Of July Festival
DESCRIPTION:Ontario 4th Of July Festival\n\nFood\, Fun\, Entertainment\, Parade\, Contests\, Prize Drawings\, Fireworks!  Bring your entire family for a wonderful day of activities!
X-ALT-DESC;FMTTYPE=text/html:Ontario 4th Of July Festival\n\nFood\, Fun\, Entertainment\, Parade\, Contests\, Prize Drawings\, Fireworks!  Bring your entire family for a wonderful day of activities!
LOCATION:Ontario Middle/High School\, 457 Shelby-Ontario Rd\, Ontario OH North of Park Ave West\, South of W Fourth Street
UID:e.2256.589
SEQUENCE:3
DTSTAMP:20260424T165246Z
URL:https://portal.richlandareachamber.com/events/details/ontario-4th-of-july-festival-07-02-2011-589
END:VEVENT

END:VCALENDAR
