BEGIN:VCALENDAR
VERSION:2.0
PRODID:-//ChamberMaster//Event Calendar 2.0//EN
METHOD:PUBLISH
X-PUBLISHED-TTL:P3D
REFRESH-INTERVAL:P3D
CALSCALE:GREGORIAN
BEGIN:VEVENT
DTSTART:20110910T123000Z
DTEND:20110910T123000Z
X-MICROSOFT-CDO-ALLDAYEVENT:FALSE
SUMMARY:Ohio CCW Course
DESCRIPTION:The Ohio CCW permit instruction course is a firearms safety course designed to provide a general introduction to firearms & pistol/handgun shooting. Rock Solid Investigations & Security LLC is a fully accredited firearms safety & personal protection training organization. The instructor\, Bob Ball is focused on providing a safe\, encouraging environment that allows students to learn effective marksmanship & gun handling skills whether they are a beginner or a skilled shooter. Our training techniques provide our students with skills\, knowledge\, and responsibility that constitutes gun ownership\, use\, & the legal ramifications associated with the use of deadly force. This course also provides the student with information that could potentially save their life & the lives of loved ones. \nPRE REGISTRATION IS REQUIRED DUE TO CLASS SIZE
X-ALT-DESC;FMTTYPE=text/html:The Ohio CCW permit instruction course is a firearms safety course designed to provide a general introduction to firearms & pistol/handgun shooting. Rock Solid Investigations & Security LLC is a fully accredited firearms safety & personal protection training organization. The instructor\, Bob Ball is focused on providing a safe\, encouraging environment that allows students to learn effective marksmanship & gun handling skills whether they are a beginner or a skilled shooter. Our training techniques provide our students with skills\, knowledge\, and responsibility that constitutes gun ownership\, use\, & the legal ramifications associated with the use of deadly force. This course also provides the student with information that could potentially save their life & the lives of loved ones. \nPRE REGISTRATION IS REQUIRED DUE TO CLASS SIZE
LOCATION:1060 Lexington Avenue\, Mansfield\, Ohio 44907
UID:e.2256.612
SEQUENCE:3
DTSTAMP:20260424T133644Z
URL:https://portal.richlandareachamber.com/events/details/ohio-ccw-course-09-10-2011-612
END:VEVENT

END:VCALENDAR
