BEGIN:VCALENDAR
VERSION:2.0
PRODID:-//ChamberMaster//Event Calendar 2.0//EN
METHOD:PUBLISH
X-PUBLISHED-TTL:P3D
REFRESH-INTERVAL:P3D
CALSCALE:GREGORIAN
BEGIN:VEVENT
DTSTART:20091214T000000Z
DTEND:20091214T000000Z
X-MICROSOFT-CDO-ALLDAYEVENT:FALSE
SUMMARY:Nuncrackers- The Nunsense Christmas Musical
DESCRIPTION:The Little Sisters of Hoboken are back - and they're funnier than ever in this hilarious holiday musical treat! \n\n\n    Get more information HERE
X-ALT-DESC;FMTTYPE=text/html:<p>\n    The Little Sisters of Hoboken are back - and they're funnier than ever in this hilarious holiday musical treat!&nbsp\;\n</p>\n<p>\n    Get more information <a href="http://www.mansfieldtickets.com/events/all">HERE</a><a href="http://www.mansfieldtickets.com/events/all"></a><a href="http://www.mansfieldtickets.com/events/all"></a> \n</p>
LOCATION:
UID:e.2256.117
SEQUENCE:3
DTSTAMP:20260425T203235Z
URL:https://portal.richlandareachamber.com/events/details/nuncrackers-the-nunsense-christmas-musical-12-13-2009-117
END:VEVENT

END:VCALENDAR
