BEGIN:VCALENDAR
VERSION:2.0
PRODID:-//ChamberMaster//Event Calendar 2.0//EN
METHOD:PUBLISH
X-PUBLISHED-TTL:P3D
REFRESH-INTERVAL:P3D
CALSCALE:GREGORIAN
BEGIN:VEVENT
DTSTART:20100424T130000Z
DTEND:20100424T130000Z
X-MICROSOFT-CDO-ALLDAYEVENT:FALSE
SUMMARY:North End Lifestyle Challenge
DESCRIPTION:The Community Lifestyle Challenge is an opportunity for Mansfield residents to get the tools and motivation they need to begin or enhance an exercise program.  It's a way to improve your health\, support and build team spirit\, and enthusiasm within your community.\nThe challenge includes monthly information:\n•	Community Calendars of special events and workshops \n•	A weight\, fitness and activity log to monitor/ track your journey\n•	An opportunity to speak with Health Care Professionals (Nutritionist\, Personal Trainer\, and local Health Agency Representatives)\n\nFor more information\, please contact Shanican Pender at the North End Community Improvement Collaborative (NECIC) 419-525-3101.\nRegistration forms may be downloaded at www.necic-ohio.org or picked up at the NECIC office\, 199 North Main Street Mansfield\, Ohio 44901.
X-ALT-DESC;FMTTYPE=text/html:The Community Lifestyle Challenge is an opportunity for Mansfield residents to get the tools and motivation they need to begin or enhance an exercise program.  It's a way to improve your health\, support and build team spirit\, and enthusiasm within your community.\nThe challenge includes monthly information:\n•	Community Calendars of special events and workshops \n•	A weight\, fitness and activity log to monitor/ track your journey\n•	An opportunity to speak with Health Care Professionals (Nutritionist\, Personal Trainer\, and local Health Agency Representatives)\n\nFor more information\, please contact Shanican Pender at the North End Community Improvement Collaborative (NECIC) 419-525-3101.\nRegistration forms may be downloaded at www.necic-ohio.org or picked up at the NECIC office\, 199 North Main Street Mansfield\, Ohio 44901.\n
LOCATION:For more information\, please contact Shanican Pender at the North End Community Improvement Collaborative (NECIC) 419-525-3101. Registration forms may be downloaded at www.necic-ohio.org or picked up at the NECIC office\, 199 North Main Street Mansfield\, Ohio 44901.
UID:e.2256.313
SEQUENCE:3
DTSTAMP:20260425T164632Z
URL:https://portal.richlandareachamber.com/events/details/north-end-lifestyle-challenge-04-24-2010-313
END:VEVENT

END:VCALENDAR
