BEGIN:VCALENDAR
VERSION:2.0
PRODID:-//ChamberMaster//Event Calendar 2.0//EN
METHOD:PUBLISH
X-PUBLISHED-TTL:P3D
REFRESH-INTERVAL:P3D
CALSCALE:GREGORIAN
BEGIN:VEVENT
DTSTART:20091231T223000Z
DTEND:20091231T223000Z
X-MICROSOFT-CDO-ALLDAYEVENT:FALSE
SUMMARY:New Years Eve Prime Rib Grand Buffet
DESCRIPTION:Thursday 31st December 2009\nPrice: $21.95 per person\n(beverage\, gratuity and sales tax not included)\nFor reservations call 419 522 7699
X-ALT-DESC;FMTTYPE=text/html:Thursday 31st December 2009\nPrice: $21.95 per person\n(beverage\, gratuity and sales tax not included)\nFor reservations call 419 522 7699
LOCATION:Located in the historic Reed's building in Downtown Mansfield
UID:e.2256.262
SEQUENCE:3
DTSTAMP:20260425T203331Z
URL:https://portal.richlandareachamber.com/events/details/new-years-eve-prime-rib-grand-buffet-12-31-2009-262
END:VEVENT

END:VCALENDAR
